BEGIN:VCALENDAR
VERSION:2.0
PRODID:-//wp-events-plugin.com//7.2.3.1//EN
TZID:Europe/London
X-WR-TIMEZONE:Europe/London
BEGIN:VEVENT
UID:433@sheptonmalletu3a.org.uk
DTSTART;TZID=Europe/London:20240404T100000
DTEND;TZID=Europe/London:20240404T120000
DTSTAMP:20240214T165903Z
URL:https://sheptonmalletu3a.org.uk/events/speaker-meeting-local-history-w
 alk/
SUMMARY:Speaker Meeting - Local History Walk
DESCRIPTION:Local History brought to Life. \n\nCome along for refreshments 
 before stepping out to enjoy a guided walking tour with Ian Keys\, explori
 ng Shepton’s History from the Salvation Army Hall down to\, and around B
 owlish. You may join as much or as little as you wish to. We hope to finis
 h at The Horseshoe Inn in Bowlish.\n\n&nbsp\;\n\n&nbsp\;
CATEGORIES:Meetings
LOCATION:Salvation Army Hall\, 21 Commercial Road\, Shepton Mallet\, Somers
 et\, BA4 5BU\, United Kingdom
GEO:51.1903228;-2.548756000000026
X-APPLE-STRUCTURED-LOCATION;VALUE=URI;X-ADDRESS=21 Commercial Road\, Shepto
 n Mallet\, Somerset\, BA4 5BU\, United Kingdom;X-APPLE-RADIUS=100;X-TITLE=
 Salvation Army Hall:geo:51.1903228,-2.548756000000026
END:VEVENT
BEGIN:VTIMEZONE
TZID:Europe/London
X-LIC-LOCATION:Europe/London
BEGIN:DAYLIGHT
DTSTART:20240331T020000
TZOFFSETFROM:+0000
TZOFFSETTO:+0100
TZNAME:BST
END:DAYLIGHT
END:VTIMEZONE
END:VCALENDAR